BEGIN:VCALENDAR
VERSION:2.0
PRODID:-//Rutgers University Senate - ECPv5.14.2.1//NONSGML v1.0//EN
CALSCALE:GREGORIAN
METHOD:PUBLISH
X-WR-CALNAME:Rutgers University Senate
X-ORIGINAL-URL:https://senate.rutgers.edu
X-WR-CALDESC:Events for Rutgers University Senate
BEGIN:VTIMEZONE
TZID:America/New_York
BEGIN:DAYLIGHT
TZOFFSETFROM:-0500
TZOFFSETTO:-0400
TZNAME:EDT
DTSTART:20240310T070000
END:DAYLIGHT
BEGIN:STANDARD
TZOFFSETFROM:-0400
TZOFFSETTO:-0500
TZNAME:EST
DTSTART:20241103T060000
END:STANDARD
END:VTIMEZONE
BEGIN:VEVENT
DTSTART;TZID=America/New_York:20240301T120000
DTEND;TZID=America/New_York:20240301T160000
DTSTAMP:20260422T135353
CREATED:20230308T152553Z
LAST-MODIFIED:20240408T165507Z
UID:19302-1709294400-1709308800@senate.rutgers.edu
SUMMARY:Executive Committee Meeting - Chancellor Strom
DESCRIPTION:
URL:https://senate.rutgers.edu/meeting/executive-committee-meeting-17/
LOCATION:Zoom
END:VEVENT
END:VCALENDAR