BEGIN:VCALENDAR
VERSION:2.0
PRODID:-//Rutgers University Senate - ECPv5.14.2.1//NONSGML v1.0//EN
CALSCALE:GREGORIAN
METHOD:PUBLISH
X-WR-CALNAME:Rutgers University Senate
X-ORIGINAL-URL:https://senate.rutgers.edu
X-WR-CALDESC:Events for Rutgers University Senate
BEGIN:VTIMEZONE
TZID:America/New_York
BEGIN:DAYLIGHT
TZOFFSETFROM:-0500
TZOFFSETTO:-0400
TZNAME:EDT
DTSTART:20180311T070000
END:DAYLIGHT
BEGIN:STANDARD
TZOFFSETFROM:-0400
TZOFFSETTO:-0500
TZNAME:EST
DTSTART:20181104T060000
END:STANDARD
END:VTIMEZONE
BEGIN:VEVENT
DTSTART;TZID=America/New_York:20180216T131000
DTEND;TZID=America/New_York:20180216T170000
DTSTAMP:20260421T054608
CREATED:20200320T183340Z
LAST-MODIFIED:20200320T183340Z
UID:2705-1518786600-1518800400@senate.rutgers.edu
SUMMARY:Senate Meeting
DESCRIPTION:
URL:https://senate.rutgers.edu/meeting/senate-meeting-2/
LOCATION:CCC – Multi-purpose Room\, 326 Penn Street\, Camden\, NJ\, 08102\, United States
END:VEVENT
END:VCALENDAR