BEGIN:VCALENDAR
VERSION:2.0
PRODID:-//Rutgers University Senate - ECPv5.14.2.1//NONSGML v1.0//EN
CALSCALE:GREGORIAN
METHOD:PUBLISH
X-WR-CALNAME:Rutgers University Senate
X-ORIGINAL-URL:https://senate.rutgers.edu
X-WR-CALDESC:Events for Rutgers University Senate
BEGIN:VTIMEZONE
TZID:America/New_York
BEGIN:DAYLIGHT
TZOFFSETFROM:-0500
TZOFFSETTO:-0400
TZNAME:EDT
DTSTART:20250309T070000
END:DAYLIGHT
BEGIN:STANDARD
TZOFFSETFROM:-0400
TZOFFSETTO:-0500
TZNAME:EST
DTSTART:20251102T060000
END:STANDARD
END:VTIMEZONE
BEGIN:VEVENT
DTSTART;TZID=America/New_York:20250328T130000
DTEND;TZID=America/New_York:20250328T160000
DTSTAMP:20260422T123755
CREATED:20240313T153144Z
LAST-MODIFIED:20251112T201340Z
UID:28061-1743166800-1743177600@senate.rutgers.edu
SUMMARY:Senate Meeting
DESCRIPTION:
URL:https://senate.rutgers.edu/meeting/senate-meeting-30/
LOCATION:Zoom
END:VEVENT
END:VCALENDAR